BEGIN:VCALENDAR
VERSION:2.0
PRODID:-//159.69.59.25//NONSGML kigkonsult.se iCalcreator 2.20//
CALSCALE:GREGORIAN
METHOD:PUBLISH
X-WR-TIMEZONE:Europe/Berlin
BEGIN:VEVENT
UID:event1099@Egweil im AltmuehlNet
DTSTAMP:20260421T121636Z
CATEGORIES:Freiwillige Feuerwehr Egweil\, Eggspatzen Egweil e.V.\, TSV Egwe
 il e.V.\, Showtanzgruppe Dance Venture
DESCRIPTION:Ball der Vereine 2026\nVeranstalter: Freiwillige Feuerwehr Egwe
 il\, Eggspatzen Egweil e.V.\, TSV Egweil e.V.\, Showtanzgruppe Dance Ventu
 re\nICS-Link: https://www.egweil.info/index.php?option=com_jem&view=event&
 id=1099:ball-der-vereine-2026&Itemid=821\n
DTSTART;TZID=Europe/Berlin:20260207T180000
DTEND;TZID=Europe/Berlin:20260207T180000
LOCATION:Sportheim\,Wiesenweg 50\,85116 Egweil
SUMMARY:Ball der Vereine 2026
URL:https://www.egweil.info/index.php?option=com_jem&view=event&id=1099:bal
 l-der-vereine-2026&Itemid=821
END:VEVENT
END:VCALENDAR